BEGIN:VCALENDAR
VERSION:2.0
PRODID:-//www.ecosourcenativeseeds.com//NONSGML kigkonsult.se iCalcreator 2
 .30.10//
CALSCALE:GREGORIAN
METHOD:PUBLISH
UID:3b2125a4-e41b-4326-9274-98021ddccd53
X-WR-CALDESC:
X-WR-RELCALID:303e57501f8623fdbe3cec78bf25bd66
X-WR-TIMEZONE:America/Los_Angeles
BEGIN:VTIMEZONE
TZID:America/Los_Angeles
BEGIN:STANDARD
TZNAME:PST
DTSTART:20211107T020000
TZOFFSETFROM:-0700
TZOFFSETTO:-0800
RDATE:20221106T020000
END:STANDARD
BEGIN:DAYLIGHT
TZNAME:PDT
DTSTART:20220313T020000
TZOFFSETFROM:-0800
TZOFFSETTO:-0700
RDATE:20230312T020000
END:DAYLIGHT
END:VTIMEZONE
BEGIN:VEVENT
UID:c1954a3a-f169-4f80-a76b-4190652543ea
DTSTAMP:20260425T201304Z
DESCRIPTION:
DTSTART;TZID=America/Los_Angeles:20220407T110000
DTEND;TZID=America/Los_Angeles:20220407T120000
LOCATION:111 E Railroad Ave\, Burns\, OR 97720 US
SUMMARY:Weekly Management Meeting
END:VEVENT
END:VCALENDAR
