BEGIN:VCALENDAR
VERSION:2.0
PRODID:-//www.ecosourcenativeseeds.com//NONSGML kigkonsult.se iCalcreator 2
 .30.10//
CALSCALE:GREGORIAN
METHOD:PUBLISH
UID:55839dad-5059-4da3-bf2c-5f68bdc39bcc
X-WR-CALDESC:
X-WR-RELCALID:9faacd834f544e1d91e783512a188dd6
X-WR-TIMEZONE:America/Los_Angeles
BEGIN:VTIMEZONE
TZID:America/Los_Angeles
BEGIN:STANDARD
TZNAME:PST
DTSTART:20211107T020000
TZOFFSETFROM:-0700
TZOFFSETTO:-0800
RDATE:20221106T020000
END:STANDARD
BEGIN:DAYLIGHT
TZNAME:PDT
DTSTART:20220313T020000
TZOFFSETFROM:-0800
TZOFFSETTO:-0700
RDATE:20230312T020000
END:DAYLIGHT
END:VTIMEZONE
BEGIN:VEVENT
UID:2c76d9b4-0ce3-43f7-9f1f-b4dc4062def5
DTSTAMP:20260425T201001Z
DESCRIPTION:
DTSTART;TZID=America/Los_Angeles:20220427T150000
DTEND;TZID=America/Los_Angeles:20220427T160000
LOCATION:111 E Railroad Ave\, Burns\, OR 97720 US
SUMMARY:Monthly Board Meeting
END:VEVENT
END:VCALENDAR
