BEGIN:VCALENDAR
VERSION:2.0
PRODID:-//www.ecosourcenativeseeds.com//NONSGML kigkonsult.se iCalcreator 2
 .30.10//
CALSCALE:GREGORIAN
METHOD:PUBLISH
UID:ed16652d-1483-4c1e-b9c7-8f606c8f1bc4
X-WR-CALDESC:
X-WR-RELCALID:c5cf089950b1e2b21e5915601b29e8cd
X-WR-TIMEZONE:America/Los_Angeles
BEGIN:VTIMEZONE
TZID:America/Los_Angeles
BEGIN:STANDARD
TZNAME:PST
DTSTART:20211107T020000
TZOFFSETFROM:-0700
TZOFFSETTO:-0800
RDATE:20221106T020000
END:STANDARD
BEGIN:DAYLIGHT
TZNAME:PDT
DTSTART:20220313T020000
TZOFFSETFROM:-0800
TZOFFSETTO:-0700
RDATE:20230312T020000
END:DAYLIGHT
END:VTIMEZONE
BEGIN:VEVENT
UID:178ac3a7-31a3-4c7d-b1c8-a65e24a3fd75
DTSTAMP:20260425T202216Z
DESCRIPTION:
DTSTART;TZID=America/Los_Angeles:20220428T110000
DTEND;TZID=America/Los_Angeles:20220428T120000
LOCATION:111 E Railroad Ave\, Burns\, OR 97720 US
SUMMARY:Weekly Management Meeting
END:VEVENT
END:VCALENDAR
