BEGIN:VCALENDAR
VERSION:2.0
PRODID:-//www.ecosourcenativeseeds.com//NONSGML kigkonsult.se iCalcreator 2
 .30.10//
CALSCALE:GREGORIAN
METHOD:PUBLISH
UID:6ae38d42-9b88-48e1-a529-da58064a802a
X-WR-CALDESC:
X-WR-RELCALID:73c22554ecc66b0682b9e887459edfc0
X-WR-TIMEZONE:America/Los_Angeles
BEGIN:VTIMEZONE
TZID:America/Los_Angeles
BEGIN:STANDARD
TZNAME:PST
DTSTART:20211107T020000
TZOFFSETFROM:-0700
TZOFFSETTO:-0800
RDATE:20221106T020000
RDATE:20231105T020000
END:STANDARD
BEGIN:DAYLIGHT
TZNAME:PDT
DTSTART:20220313T020000
TZOFFSETFROM:-0800
TZOFFSETTO:-0700
RDATE:20230312T020000
END:DAYLIGHT
END:VTIMEZONE
BEGIN:VEVENT
UID:df4803fa-dc7c-4ef5-bb3c-a5227000331c
DTSTAMP:20260425T183941Z
DESCRIPTION:
DTSTART;TZID=America/Los_Angeles:20220526T110000
DTEND;TZID=America/Los_Angeles:20220526T120000
LOCATION:111 E Railroad Ave\, Burns\, OR 97720 US
SUMMARY:Weekly Management Meeting
END:VEVENT
END:VCALENDAR
