BEGIN:VCALENDAR
VERSION:2.0
PRODID:-//www.ecosourcenativeseeds.com//NONSGML kigkonsult.se iCalcreator 2
 .30.10//
CALSCALE:GREGORIAN
METHOD:PUBLISH
UID:40b4186b-f6a3-4de3-9134-f916ff01e154
X-WR-CALDESC:
X-WR-RELCALID:00a4438435e5b9753059c6b0e89858c0
X-WR-TIMEZONE:America/Los_Angeles
BEGIN:VTIMEZONE
TZID:America/Los_Angeles
BEGIN:STANDARD
TZNAME:PST
DTSTART:20211107T020000
TZOFFSETFROM:-0700
TZOFFSETTO:-0800
RDATE:20221106T020000
RDATE:20231105T020000
END:STANDARD
BEGIN:DAYLIGHT
TZNAME:PDT
DTSTART:20220313T020000
TZOFFSETFROM:-0800
TZOFFSETTO:-0700
RDATE:20230312T020000
END:DAYLIGHT
END:VTIMEZONE
BEGIN:VEVENT
UID:220d5339-3826-4e89-af1d-cbfd01d76bc4
DTSTAMP:20260425T172133Z
DESCRIPTION:
DTSTART;TZID=America/Los_Angeles:20220609T110000
DTEND;TZID=America/Los_Angeles:20220609T120000
LOCATION:111 E Railroad Ave\, Burns\, OR 97720 US
SUMMARY:Weekly Management Meeting
END:VEVENT
END:VCALENDAR
