BEGIN:VCALENDAR
VERSION:2.0
PRODID:-//www.ecosourcenativeseeds.com//NONSGML kigkonsult.se iCalcreator 2
 .30.10//
CALSCALE:GREGORIAN
METHOD:PUBLISH
UID:2159b47d-03b1-47f5-bc6f-510be2b5dbac
X-WR-CALDESC:
X-WR-RELCALID:8351fc492f6842b5b49f6a6600da335b
X-WR-TIMEZONE:America/Los_Angeles
BEGIN:VTIMEZONE
TZID:America/Los_Angeles
BEGIN:STANDARD
TZNAME:PST
DTSTART:20211107T020000
TZOFFSETFROM:-0700
TZOFFSETTO:-0800
RDATE:20221106T020000
RDATE:20231105T020000
END:STANDARD
BEGIN:DAYLIGHT
TZNAME:PDT
DTSTART:20220313T020000
TZOFFSETFROM:-0800
TZOFFSETTO:-0700
RDATE:20230312T020000
END:DAYLIGHT
END:VTIMEZONE
BEGIN:VEVENT
UID:0cf6bb30-3a80-40d9-91a7-aeac42753a4c
DTSTAMP:20260425T172231Z
DESCRIPTION:
DTSTART;TZID=America/Los_Angeles:20220622T150000
DTEND;TZID=America/Los_Angeles:20220622T160000
LOCATION:111 E Railroad Ave\, Burns\, OR 97720 US
SUMMARY:Monthly Board Meeting
END:VEVENT
END:VCALENDAR
