BEGIN:VCALENDAR
VERSION:2.0
PRODID:-//www.ecosourcenativeseeds.com//NONSGML kigkonsult.se iCalcreator 2
 .30.10//
CALSCALE:GREGORIAN
METHOD:PUBLISH
UID:1fcb39bb-582b-4d76-8307-2ed1c5267242
X-WR-CALDESC:
X-WR-RELCALID:b82e2a6f6af2dd53d0c9c195230e5642
X-WR-TIMEZONE:America/Los_Angeles
BEGIN:VTIMEZONE
TZID:America/Los_Angeles
BEGIN:STANDARD
TZNAME:PST
DTSTART:20211107T020000
TZOFFSETFROM:-0700
TZOFFSETTO:-0800
RDATE:20221106T020000
RDATE:20231105T020000
END:STANDARD
BEGIN:DAYLIGHT
TZNAME:PDT
DTSTART:20220313T020000
TZOFFSETFROM:-0800
TZOFFSETTO:-0700
RDATE:20230312T020000
END:DAYLIGHT
END:VTIMEZONE
BEGIN:VEVENT
UID:ede46e05-22a5-469b-a69c-d18bb4814e18
DTSTAMP:20260425T153200Z
DESCRIPTION:
DTSTART;TZID=America/Los_Angeles:20220727T150000
DTEND;TZID=America/Los_Angeles:20220727T160000
LOCATION:111 E Railroad Ave\, Burns\, OR 97720 US
SUMMARY:Monthly Board Meeting
END:VEVENT
END:VCALENDAR
