BEGIN:VCALENDAR
VERSION:2.0
PRODID:-//www.ecosourcenativeseeds.com//NONSGML kigkonsult.se iCalcreator 2
 .30.10//
CALSCALE:GREGORIAN
METHOD:PUBLISH
UID:faf98d23-5848-42d8-9e21-434fa9f86f50
X-WR-CALDESC:
X-WR-RELCALID:2a04ec07db6643be4acce22341908ea5
X-WR-TIMEZONE:America/Los_Angeles
BEGIN:VTIMEZONE
TZID:America/Los_Angeles
BEGIN:STANDARD
TZNAME:PST
DTSTART:20211107T020000
TZOFFSETFROM:-0700
TZOFFSETTO:-0800
RDATE:20221106T020000
RDATE:20231105T020000
END:STANDARD
BEGIN:DAYLIGHT
TZNAME:PDT
DTSTART:20220313T020000
TZOFFSETFROM:-0800
TZOFFSETTO:-0700
RDATE:20230312T020000
END:DAYLIGHT
END:VTIMEZONE
BEGIN:VEVENT
UID:fa064d93-310f-4f80-82d5-76f2cc006381
DTSTAMP:20260420T130034Z
DESCRIPTION:
DTSTART;TZID=America/Los_Angeles:20220824T150000
DTEND;TZID=America/Los_Angeles:20220824T160000
LOCATION:111 E Railroad Ave\, Burns\, OR 97720 US
SUMMARY:Monthly Board Meeting
END:VEVENT
END:VCALENDAR
