BEGIN:VCALENDAR
VERSION:2.0
PRODID:-//www.ecosourcenativeseeds.com//NONSGML kigkonsult.se iCalcreator 2
 .30.10//
CALSCALE:GREGORIAN
METHOD:PUBLISH
UID:8fa6111b-5e71-4575-8c49-dfc2337726cf
X-WR-CALDESC:
X-WR-RELCALID:a4f062710943252d3474bc4bacd4f82d
X-WR-TIMEZONE:America/Los_Angeles
BEGIN:VTIMEZONE
TZID:America/Los_Angeles
BEGIN:STANDARD
TZNAME:PST
DTSTART:20211107T020000
TZOFFSETFROM:-0700
TZOFFSETTO:-0800
RDATE:20221106T020000
RDATE:20231105T020000
END:STANDARD
BEGIN:DAYLIGHT
TZNAME:PDT
DTSTART:20220313T020000
TZOFFSETFROM:-0800
TZOFFSETTO:-0700
RDATE:20230312T020000
RDATE:20240310T020000
END:DAYLIGHT
END:VTIMEZONE
BEGIN:VEVENT
UID:428da281-e201-4bba-a575-a7c3fada3932
DTSTAMP:20260425T175525Z
DESCRIPTION:
DTSTART;TZID=America/Los_Angeles:20221026T150000
DTEND;TZID=America/Los_Angeles:20221026T160000
LOCATION:111 E Railroad Ave\, Burns\, OR 97720 US
SUMMARY:Monthly Board Meeting
END:VEVENT
END:VCALENDAR
