BEGIN:VCALENDAR
VERSION:2.0
PRODID:-//www.ecosourcenativeseeds.com//NONSGML kigkonsult.se iCalcreator 2
 .30.10//
CALSCALE:GREGORIAN
METHOD:PUBLISH
UID:436813b7-ba59-4a64-a913-98bff2b0d067
X-WR-CALDESC:
X-WR-RELCALID:414023ad78d68a13a1ec7a0f438b249b
X-WR-TIMEZONE:America/Los_Angeles
BEGIN:VTIMEZONE
TZID:America/Los_Angeles
BEGIN:STANDARD
TZNAME:PST
DTSTART:20231105T020000
TZOFFSETFROM:-0700
TZOFFSETTO:-0800
RDATE:20241103T020000
RDATE:20251102T020000
END:STANDARD
BEGIN:DAYLIGHT
TZNAME:PDT
DTSTART:20240310T020000
TZOFFSETFROM:-0800
TZOFFSETTO:-0700
RDATE:20250309T020000
RDATE:20260308T020000
END:DAYLIGHT
END:VTIMEZONE
BEGIN:VEVENT
UID:c06e7f82-7e3f-4982-9d81-e86a90ea16ea
DTSTAMP:20260426T001326Z
DESCRIPTION:
DTSTART;TZID=America/Los_Angeles:20241017T110000
DTEND;TZID=America/Los_Angeles:20241017T120000
LOCATION:111 E Railroad Ave\, Burns\, OR 97720 US
SUMMARY:Weekly Management Meeting
END:VEVENT
END:VCALENDAR
